BEGIN:VCALENDAR
VERSION:2.0
PRODID:-//Piscina Sant Jordi - ECPv6.15.20//NONSGML v1.0//EN
CALSCALE:GREGORIAN
METHOD:PUBLISH
X-ORIGINAL-URL:https://www.piscinasantjordi.cat
X-WR-CALDESC:Esdeveniments per Piscina Sant Jordi
REFRESH-INTERVAL;VALUE=DURATION:PT1H
X-Robots-Tag:noindex
X-PUBLISHED-TTL:PT1H
BEGIN:VTIMEZONE
TZID:UTC
BEGIN:STANDARD
TZOFFSETFROM:+0000
TZOFFSETTO:+0000
TZNAME:UTC
DTSTART:20250101T000000
END:STANDARD
END:VTIMEZONE
BEGIN:VEVENT
DTSTART;VALUE=DATE:20260406
DTEND;VALUE=DATE:20260407
DTSTAMP:20260425T155314
CREATED:20260324T102515Z
LAST-MODIFIED:20260402T094301Z
UID:989987-1775433600-1775519999@www.piscinasantjordi.cat
SUMMARY:HORARI ESPECIAL FESTIU
DESCRIPTION:El centre obre de 9h a 14h per festivitat de Setmana Santa
URL:https://www.piscinasantjordi.cat/event/horari-especial-festiu-8/
ATTACH;FMTTYPE=image/png:https://www.piscinasantjordi.cat/wp-content/uploads/2026/03/Horaris-festius-Set-Santa-300x300-1.png
END:VEVENT
END:VCALENDAR